BEGIN:VCALENDAR
VERSION:2.0
PRODID:-//Astronomischer Verein der Grafschaft Bentheim e.V. - ECPv6.15.17.1//NONSGML v1.0//EN
CALSCALE:GREGORIAN
METHOD:PUBLISH
X-WR-CALNAME:Astronomischer Verein der Grafschaft Bentheim e.V.
X-ORIGINAL-URL:https://avgb.de
X-WR-CALDESC:Veranstaltungen für Astronomischer Verein der Grafschaft Bentheim e.V.
REFRESH-INTERVAL;VALUE=DURATION:PT1H
X-Robots-Tag:noindex
X-PUBLISHED-TTL:PT1H
BEGIN:VTIMEZONE
TZID:Europe/Berlin
BEGIN:DAYLIGHT
TZOFFSETFROM:+0100
TZOFFSETTO:+0200
TZNAME:CEST
DTSTART:20250330T010000
END:DAYLIGHT
BEGIN:STANDARD
TZOFFSETFROM:+0200
TZOFFSETTO:+0100
TZNAME:CET
DTSTART:20251026T010000
END:STANDARD
BEGIN:DAYLIGHT
TZOFFSETFROM:+0100
TZOFFSETTO:+0200
TZNAME:CEST
DTSTART:20260329T010000
END:DAYLIGHT
BEGIN:STANDARD
TZOFFSETFROM:+0200
TZOFFSETTO:+0100
TZNAME:CET
DTSTART:20261025T010000
END:STANDARD
BEGIN:DAYLIGHT
TZOFFSETFROM:+0100
TZOFFSETTO:+0200
TZNAME:CEST
DTSTART:20270328T010000
END:DAYLIGHT
BEGIN:STANDARD
TZOFFSETFROM:+0200
TZOFFSETTO:+0100
TZNAME:CET
DTSTART:20271031T010000
END:STANDARD
END:VTIMEZONE
BEGIN:VEVENT
DTSTART;TZID=Europe/Berlin:20260601T200000
DTEND;TZID=Europe/Berlin:20260601T220000
DTSTAMP:20260422T131544
CREATED:20260304T153430Z
LAST-MODIFIED:20260304T153430Z
UID:3888-1780344000-1780351200@avgb.de
SUMMARY:Vereinsabend
DESCRIPTION:Am Montag\, den 1. Juni 2026 findet ab 20:00 Uhr der monatliche Vereinsabend statt. Mitglieder und Gäste tauschen sich über aktuelle astronomische Themen\, Beobachtungstechnik und Praxisfragen aus. Dabei gibt es Raum für Erfahrungsaustausch\, Hilfestellung für Einsteiger und gemeinsame Planung kommender Beobachtungsabende.
URL:https://avgb.de/veranstaltung/vereinsabend-15/
CATEGORIES:Vereinsabend
ORGANIZER;CN="Astronomischer Verein der Grafschaft Bentheim e. V.":MAILTO:info@avgb.de
END:VEVENT
END:VCALENDAR