BEGIN:VCALENDAR
VERSION:2.0
PRODID:-//Astronomischer Verein der Grafschaft Bentheim e.V. - ECPv6.15.17.1//NONSGML v1.0//EN
CALSCALE:GREGORIAN
METHOD:PUBLISH
X-ORIGINAL-URL:https://avgb.de
X-WR-CALDESC:Veranstaltungen für Astronomischer Verein der Grafschaft Bentheim e.V.
REFRESH-INTERVAL;VALUE=DURATION:PT1H
X-Robots-Tag:noindex
X-PUBLISHED-TTL:PT1H
BEGIN:VTIMEZONE
TZID:Europe/Berlin
BEGIN:DAYLIGHT
TZOFFSETFROM:+0100
TZOFFSETTO:+0200
TZNAME:CEST
DTSTART:20260329T010000
END:DAYLIGHT
BEGIN:STANDARD
TZOFFSETFROM:+0200
TZOFFSETTO:+0100
TZNAME:CET
DTSTART:20261025T010000
END:STANDARD
BEGIN:DAYLIGHT
TZOFFSETFROM:+0100
TZOFFSETTO:+0200
TZNAME:CEST
DTSTART:20270328T010000
END:DAYLIGHT
BEGIN:STANDARD
TZOFFSETFROM:+0200
TZOFFSETTO:+0100
TZNAME:CET
DTSTART:20271031T010000
END:STANDARD
BEGIN:DAYLIGHT
TZOFFSETFROM:+0100
TZOFFSETTO:+0200
TZNAME:CEST
DTSTART:20280326T010000
END:DAYLIGHT
BEGIN:STANDARD
TZOFFSETFROM:+0200
TZOFFSETTO:+0100
TZNAME:CET
DTSTART:20281029T010000
END:STANDARD
END:VTIMEZONE
BEGIN:VEVENT
DTSTART;TZID=Europe/Berlin:20270303T200000
DTEND;TZID=Europe/Berlin:20270303T220000
DTSTAMP:20260424T004936
CREATED:20260304T155440Z
LAST-MODIFIED:20260304T155440Z
UID:3938-1804104000-1804111200@avgb.de
SUMMARY:Öffentlicher Abend
DESCRIPTION:Am Mittwoch\, den 3. März 2027\, laden wir Sie ab 20:00 Uhr herzlich in unsere Sternwarte in Neuenhaus ein. Im Abendprogramm geben wir eine verständliche Einführung in den aktuellen Sternenhimmel und zeigen\, welche Objekte sich besonders gut beobachten lassen. \nExpedition ins Sonnensystem\nDer Programmteil „Expedition ins Sonnensystem“ nimmt das Publikum mit zu Planeten\, Monden und den dynamischen Prozessen in unserer kosmischen Nachbarschaft. \nFrühlingssternenhimmel\nAm Frühlingshimmel lassen sich Galaxienfelder im Löwen und in der Jungfrau sowie auffällige Sternmuster rund um den Großen Wagen entdecken. \nAnmeldung\nDer Öffentliche Abend kann ohne Anmeldung – auch spontan – besucht werden. Wenn Sie planen\, uns mit einer größeren Gruppe zu besuchen\, freuen wir uns über eine kurze Anmeldung über das folgende Formular. \n\n\n  \n\n\n\n Ihr Name (Pflichtfeld)\n \n \n Ihre E-Mail-Adresse (Pflichtfeld)\n \n \n Veranstaltung\n \n \n Ihre Nachricht
URL:https://avgb.de/veranstaltung/oeffentlicher-abend-105/
CATEGORIES:Öffentlicher Abend
ORGANIZER;CN="Astronomischer Verein der Grafschaft Bentheim e. V.":MAILTO:info@avgb.de
END:VEVENT
BEGIN:VEVENT
DTSTART;TZID=Europe/Berlin:20270310T200000
DTEND;TZID=Europe/Berlin:20270310T220000
DTSTAMP:20260424T004936
CREATED:20260304T155440Z
LAST-MODIFIED:20260304T155440Z
UID:3939-1804708800-1804716000@avgb.de
SUMMARY:Öffentlicher Abend
DESCRIPTION:Am Mittwoch\, den 10. März 2027\, laden wir Sie ab 20:00 Uhr herzlich in unsere Sternwarte in Neuenhaus ein. Im Abendprogramm geben wir eine verständliche Einführung in den aktuellen Sternenhimmel und zeigen\, welche Objekte sich besonders gut beobachten lassen. \nVon der Erde zum Universum\nIn unserem Fulldome-Planetarium zeigen wir den Film „Von der Erde zum Universum“\, der den Weg von den frühen Beobachtungen bis zu modernen Großteleskopen nachzeichnet. \nFrühlingssternenhimmel\nAm Frühlingshimmel lassen sich Galaxienfelder im Löwen und in der Jungfrau sowie auffällige Sternmuster rund um den Großen Wagen entdecken. \nAnmeldung\nDer Öffentliche Abend kann ohne Anmeldung – auch spontan – besucht werden. Wenn Sie planen\, uns mit einer größeren Gruppe zu besuchen\, freuen wir uns über eine kurze Anmeldung über das folgende Formular. \n\n\n  \n\n\n\n Ihr Name (Pflichtfeld)\n \n \n Ihre E-Mail-Adresse (Pflichtfeld)\n \n \n Veranstaltung\n \n \n Ihre Nachricht
URL:https://avgb.de/veranstaltung/oeffentlicher-abend-106/
CATEGORIES:Öffentlicher Abend
ORGANIZER;CN="Astronomischer Verein der Grafschaft Bentheim e. V.":MAILTO:info@avgb.de
END:VEVENT
BEGIN:VEVENT
DTSTART;TZID=Europe/Berlin:20270317T200000
DTEND;TZID=Europe/Berlin:20270317T220000
DTSTAMP:20260424T004936
CREATED:20260304T155440Z
LAST-MODIFIED:20260304T155440Z
UID:3940-1805313600-1805320800@avgb.de
SUMMARY:Öffentlicher Abend
DESCRIPTION:Am Mittwoch\, den 17. März 2027\, laden wir Sie ab 20:00 Uhr herzlich in unsere Sternwarte in Neuenhaus ein. Im Abendprogramm geben wir eine verständliche Einführung in den aktuellen Sternenhimmel und zeigen\, welche Objekte sich besonders gut beobachten lassen. \nSieben Tage im Juli – Die Geschichte der Apollo 11\nDer Fulldome-Film „Sieben Tage im Juli – Die Geschichte der Apollo 11“ begleitet die erste Mondlandung und vermittelt Hintergründe zur historischen Mission. \nFrühlingssternenhimmel\nAm Frühlingshimmel lassen sich Galaxienfelder im Löwen und in der Jungfrau sowie auffällige Sternmuster rund um den Großen Wagen entdecken. \nAnmeldung\nDer Öffentliche Abend kann ohne Anmeldung – auch spontan – besucht werden. Wenn Sie planen\, uns mit einer größeren Gruppe zu besuchen\, freuen wir uns über eine kurze Anmeldung über das folgende Formular. \n\n\n  \n\n\n\n Ihr Name (Pflichtfeld)\n \n \n Ihre E-Mail-Adresse (Pflichtfeld)\n \n \n Veranstaltung\n \n \n Ihre Nachricht
URL:https://avgb.de/veranstaltung/oeffentlicher-abend-107/
CATEGORIES:Öffentlicher Abend
ORGANIZER;CN="Astronomischer Verein der Grafschaft Bentheim e. V.":MAILTO:info@avgb.de
END:VEVENT
BEGIN:VEVENT
DTSTART;TZID=Europe/Berlin:20270324T200000
DTEND;TZID=Europe/Berlin:20270324T220000
DTSTAMP:20260424T004936
CREATED:20260304T155440Z
LAST-MODIFIED:20260304T155440Z
UID:3941-1805918400-1805925600@avgb.de
SUMMARY:Öffentlicher Abend
DESCRIPTION:Am Mittwoch\, den 24. März 2027\, laden wir Sie ab 20:00 Uhr herzlich in unsere Sternwarte in Neuenhaus ein. Im Abendprogramm geben wir eine verständliche Einführung in den aktuellen Sternenhimmel und zeigen\, welche Objekte sich besonders gut beobachten lassen. \n50.000 Fuß über dem Meer – Die fliegende Sternwarte SOFIA\nMit dem Fulldome-Film über die fliegende Sternwarte SOFIA erhalten Besucherinnen und Besucher Einblicke in moderne Infrarotastronomie über den Wolken. \nFrühlingssternenhimmel\nAm Frühlingshimmel lassen sich Galaxienfelder im Löwen und in der Jungfrau sowie auffällige Sternmuster rund um den Großen Wagen entdecken. \nAnmeldung\nDer Öffentliche Abend kann ohne Anmeldung – auch spontan – besucht werden. Wenn Sie planen\, uns mit einer größeren Gruppe zu besuchen\, freuen wir uns über eine kurze Anmeldung über das folgende Formular. \n\n\n  \n\n\n\n Ihr Name (Pflichtfeld)\n \n \n Ihre E-Mail-Adresse (Pflichtfeld)\n \n \n Veranstaltung\n \n \n Ihre Nachricht
URL:https://avgb.de/veranstaltung/oeffentlicher-abend-108/
CATEGORIES:Öffentlicher Abend
ORGANIZER;CN="Astronomischer Verein der Grafschaft Bentheim e. V.":MAILTO:info@avgb.de
END:VEVENT
BEGIN:VEVENT
DTSTART;TZID=Europe/Berlin:20270331T200000
DTEND;TZID=Europe/Berlin:20270331T220000
DTSTAMP:20260424T004936
CREATED:20260304T155641Z
LAST-MODIFIED:20260304T155641Z
UID:3942-1806523200-1806530400@avgb.de
SUMMARY:Öffentlicher Abend
DESCRIPTION:Am Mittwoch\, den 31. März 2027\, laden wir Sie ab 20:00 Uhr herzlich in unsere Sternwarte in Neuenhaus ein. Im Abendprogramm geben wir eine verständliche Einführung in den aktuellen Sternenhimmel und zeigen\, welche Objekte sich besonders gut beobachten lassen. \nExpedition ins Sonnensystem\nDer Programmteil „Expedition ins Sonnensystem“ nimmt das Publikum mit zu Planeten\, Monden und den dynamischen Prozessen in unserer kosmischen Nachbarschaft. \nFrühlingssternenhimmel\nAm Frühlingshimmel lassen sich Galaxienfelder im Löwen und in der Jungfrau sowie auffällige Sternmuster rund um den Großen Wagen entdecken. \nAnmeldung\nDer Öffentliche Abend kann ohne Anmeldung – auch spontan – besucht werden. Wenn Sie planen\, uns mit einer größeren Gruppe zu besuchen\, freuen wir uns über eine kurze Anmeldung über das folgende Formular. \n\n\n  \n\n\n\n Ihr Name (Pflichtfeld)\n \n \n Ihre E-Mail-Adresse (Pflichtfeld)\n \n \n Veranstaltung\n \n \n Ihre Nachricht
URL:https://avgb.de/veranstaltung/oeffentlicher-abend-109/
CATEGORIES:Öffentlicher Abend
ORGANIZER;CN="Astronomischer Verein der Grafschaft Bentheim e. V.":MAILTO:info@avgb.de
END:VEVENT
END:VCALENDAR