BEGIN:VCALENDAR
VERSION:2.0
PRODID:-//Astronomischer Verein der Grafschaft Bentheim e.V. - ECPv6.15.17.1//NONSGML v1.0//EN
CALSCALE:GREGORIAN
METHOD:PUBLISH
X-ORIGINAL-URL:https://avgb.de
X-WR-CALDESC:Veranstaltungen für Astronomischer Verein der Grafschaft Bentheim e.V.
REFRESH-INTERVAL;VALUE=DURATION:PT1H
X-Robots-Tag:noindex
X-PUBLISHED-TTL:PT1H
BEGIN:VTIMEZONE
TZID:Europe/Berlin
BEGIN:DAYLIGHT
TZOFFSETFROM:+0100
TZOFFSETTO:+0200
TZNAME:CEST
DTSTART:20260329T010000
END:DAYLIGHT
BEGIN:STANDARD
TZOFFSETFROM:+0200
TZOFFSETTO:+0100
TZNAME:CET
DTSTART:20261025T010000
END:STANDARD
BEGIN:DAYLIGHT
TZOFFSETFROM:+0100
TZOFFSETTO:+0200
TZNAME:CEST
DTSTART:20270328T010000
END:DAYLIGHT
BEGIN:STANDARD
TZOFFSETFROM:+0200
TZOFFSETTO:+0100
TZNAME:CET
DTSTART:20271031T010000
END:STANDARD
BEGIN:DAYLIGHT
TZOFFSETFROM:+0100
TZOFFSETTO:+0200
TZNAME:CEST
DTSTART:20280326T010000
END:DAYLIGHT
BEGIN:STANDARD
TZOFFSETFROM:+0200
TZOFFSETTO:+0100
TZNAME:CET
DTSTART:20281029T010000
END:STANDARD
END:VTIMEZONE
BEGIN:VEVENT
DTSTART;TZID=Europe/Berlin:20271016T200000
DTEND;TZID=Europe/Berlin:20271016T220000
DTSTAMP:20260425T034410
CREATED:20260304T161048Z
LAST-MODIFIED:20260304T161048Z
UID:3978-1823716800-1823724000@avgb.de
SUMMARY:PAS
DESCRIPTION:PAS
URL:https://avgb.de/veranstaltung/pas-2/
CATEGORIES:Praktischer astronomischer Samstag
ORGANIZER;CN="Astronomischer Verein der Grafschaft Bentheim e. V.":MAILTO:info@avgb.de
END:VEVENT
END:VCALENDAR