BEGIN:VCALENDAR
VERSION:2.0
PRODID:-//Astronomischer Verein der Grafschaft Bentheim e.V. - ECPv6.15.17.1//NONSGML v1.0//EN
CALSCALE:GREGORIAN
METHOD:PUBLISH
X-WR-CALNAME:Astronomischer Verein der Grafschaft Bentheim e.V.
X-ORIGINAL-URL:https://avgb.de
X-WR-CALDESC:Veranstaltungen für Astronomischer Verein der Grafschaft Bentheim e.V.
REFRESH-INTERVAL;VALUE=DURATION:PT1H
X-Robots-Tag:noindex
X-PUBLISHED-TTL:PT1H
BEGIN:VTIMEZONE
TZID:Europe/Berlin
BEGIN:DAYLIGHT
TZOFFSETFROM:+0100
TZOFFSETTO:+0200
TZNAME:CEST
DTSTART:20250330T010000
END:DAYLIGHT
BEGIN:STANDARD
TZOFFSETFROM:+0200
TZOFFSETTO:+0100
TZNAME:CET
DTSTART:20251026T010000
END:STANDARD
BEGIN:DAYLIGHT
TZOFFSETFROM:+0100
TZOFFSETTO:+0200
TZNAME:CEST
DTSTART:20260329T010000
END:DAYLIGHT
BEGIN:STANDARD
TZOFFSETFROM:+0200
TZOFFSETTO:+0100
TZNAME:CET
DTSTART:20261025T010000
END:STANDARD
BEGIN:DAYLIGHT
TZOFFSETFROM:+0100
TZOFFSETTO:+0200
TZNAME:CEST
DTSTART:20270328T010000
END:DAYLIGHT
BEGIN:STANDARD
TZOFFSETFROM:+0200
TZOFFSETTO:+0100
TZNAME:CET
DTSTART:20271031T010000
END:STANDARD
END:VTIMEZONE
BEGIN:VEVENT
DTSTART;TZID=Europe/Berlin:20260701T200000
DTEND;TZID=Europe/Berlin:20260701T220000
DTSTAMP:20260423T105715
CREATED:20260304T153631Z
LAST-MODIFIED:20260304T153631Z
UID:3893-1782936000-1782943200@avgb.de
SUMMARY:Öffentlicher Abend
DESCRIPTION:Am Mittwoch\, den 1. Juli 2026\, laden wir Sie ab 20:00 Uhr herzlich in unsere Sternwarte in Neuenhaus ein. Im Abendprogramm geben wir eine verständliche Einführung in den aktuellen Sternenhimmel und zeigen\, welche Objekte sich besonders gut beobachten lassen. \nSieben Tage im Juli – Die Geschichte der Apollo 11\nDer Fulldome-Film „Sieben Tage im Juli – Die Geschichte der Apollo 11“ begleitet die erste Mondlandung und vermittelt Hintergründe zur historischen Mission. \nSommersternenhimmel\nDer Sommerhimmel bietet mit dem Sommerdreieck in Schwan\, Leier und Adler ideale Bedingungen für spannende Beobachtungen. \nAnmeldung\nDer Öffentliche Abend kann ohne Anmeldung – auch spontan – besucht werden. Wenn Sie planen\, uns mit einer größeren Gruppe zu besuchen\, freuen wir uns über eine kurze Anmeldung über das folgende Formular. \n\n\n  \n\n\n\n Ihr Name (Pflichtfeld)\n \n \n Ihre E-Mail-Adresse (Pflichtfeld)\n \n \n Veranstaltung\n \n \n Ihre Nachricht
URL:https://avgb.de/veranstaltung/oeffentlicher-abend-71/
CATEGORIES:Öffentlicher Abend
ORGANIZER;CN="Astronomischer Verein der Grafschaft Bentheim e. V.":MAILTO:info@avgb.de
END:VEVENT
BEGIN:VEVENT
DTSTART;TZID=Europe/Berlin:20260708T200000
DTEND;TZID=Europe/Berlin:20260708T220000
DTSTAMP:20260423T105715
CREATED:20260304T153631Z
LAST-MODIFIED:20260304T153631Z
UID:3895-1783540800-1783548000@avgb.de
SUMMARY:Öffentlicher Abend
DESCRIPTION:Am Mittwoch\, den 8. Juli 2026\, laden wir Sie ab 20:00 Uhr herzlich in unsere Sternwarte in Neuenhaus ein. Im Abendprogramm geben wir eine verständliche Einführung in den aktuellen Sternenhimmel und zeigen\, welche Objekte sich besonders gut beobachten lassen. \n50.000 Fuß über dem Meer – Die fliegende Sternwarte SOFIA\nMit dem Fulldome-Film über die fliegende Sternwarte SOFIA erhalten Besucherinnen und Besucher Einblicke in moderne Infrarotastronomie über den Wolken. \nSommersternenhimmel\nDer Sommerhimmel bietet mit dem Sommerdreieck in Schwan\, Leier und Adler ideale Bedingungen für spannende Beobachtungen. \nAnmeldung\nDer Öffentliche Abend kann ohne Anmeldung – auch spontan – besucht werden. Wenn Sie planen\, uns mit einer größeren Gruppe zu besuchen\, freuen wir uns über eine kurze Anmeldung über das folgende Formular. \n\n\n  \n\n\n\n Ihr Name (Pflichtfeld)\n \n \n Ihre E-Mail-Adresse (Pflichtfeld)\n \n \n Veranstaltung\n \n \n Ihre Nachricht
URL:https://avgb.de/veranstaltung/oeffentlicher-abend-72/
CATEGORIES:Öffentlicher Abend
ORGANIZER;CN="Astronomischer Verein der Grafschaft Bentheim e. V.":MAILTO:info@avgb.de
END:VEVENT
BEGIN:VEVENT
DTSTART;TZID=Europe/Berlin:20260715T200000
DTEND;TZID=Europe/Berlin:20260715T220000
DTSTAMP:20260423T105715
CREATED:20260304T153631Z
LAST-MODIFIED:20260304T153631Z
UID:3896-1784145600-1784152800@avgb.de
SUMMARY:Öffentlicher Abend
DESCRIPTION:Am Mittwoch\, den 15. Juli 2026\, laden wir Sie ab 20:00 Uhr herzlich in unsere Sternwarte in Neuenhaus ein. Im Abendprogramm geben wir eine verständliche Einführung in den aktuellen Sternenhimmel und zeigen\, welche Objekte sich besonders gut beobachten lassen. \nExpedition ins Sonnensystem\nDer Programmteil „Expedition ins Sonnensystem“ nimmt das Publikum mit zu Planeten\, Monden und den dynamischen Prozessen in unserer kosmischen Nachbarschaft. \nSommersternenhimmel\nDer Sommerhimmel bietet mit dem Sommerdreieck in Schwan\, Leier und Adler ideale Bedingungen für spannende Beobachtungen. \nAnmeldung\nDer Öffentliche Abend kann ohne Anmeldung – auch spontan – besucht werden. Wenn Sie planen\, uns mit einer größeren Gruppe zu besuchen\, freuen wir uns über eine kurze Anmeldung über das folgende Formular. \n\n\n  \n\n\n\n Ihr Name (Pflichtfeld)\n \n \n Ihre E-Mail-Adresse (Pflichtfeld)\n \n \n Veranstaltung\n \n \n Ihre Nachricht
URL:https://avgb.de/veranstaltung/oeffentlicher-abend-73/
CATEGORIES:Öffentlicher Abend
ORGANIZER;CN="Astronomischer Verein der Grafschaft Bentheim e. V.":MAILTO:info@avgb.de
END:VEVENT
BEGIN:VEVENT
DTSTART;TZID=Europe/Berlin:20260722T200000
DTEND;TZID=Europe/Berlin:20260722T220000
DTSTAMP:20260423T105715
CREATED:20260304T153832Z
LAST-MODIFIED:20260304T153832Z
UID:3897-1784750400-1784757600@avgb.de
SUMMARY:Öffentlicher Abend
DESCRIPTION:Am Mittwoch\, den 22. Juli 2026\, laden wir Sie ab 20:00 Uhr herzlich in unsere Sternwarte in Neuenhaus ein. Im Abendprogramm geben wir eine verständliche Einführung in den aktuellen Sternenhimmel und zeigen\, welche Objekte sich besonders gut beobachten lassen. \nVon der Erde zum Universum\nIn unserem Fulldome-Planetarium zeigen wir den Film „Von der Erde zum Universum“\, der den Weg von den frühen Beobachtungen bis zu modernen Großteleskopen nachzeichnet. \nSommersternenhimmel\nDer Sommerhimmel bietet mit dem Sommerdreieck in Schwan\, Leier und Adler ideale Bedingungen für spannende Beobachtungen. \nAnmeldung\nDer Öffentliche Abend kann ohne Anmeldung – auch spontan – besucht werden. Wenn Sie planen\, uns mit einer größeren Gruppe zu besuchen\, freuen wir uns über eine kurze Anmeldung über das folgende Formular. \n\n\n  \n\n\n\n Ihr Name (Pflichtfeld)\n \n \n Ihre E-Mail-Adresse (Pflichtfeld)\n \n \n Veranstaltung\n \n \n Ihre Nachricht
URL:https://avgb.de/veranstaltung/oeffentlicher-abend-74/
CATEGORIES:Öffentlicher Abend
ORGANIZER;CN="Astronomischer Verein der Grafschaft Bentheim e. V.":MAILTO:info@avgb.de
END:VEVENT
BEGIN:VEVENT
DTSTART;TZID=Europe/Berlin:20260729T200000
DTEND;TZID=Europe/Berlin:20260729T220000
DTSTAMP:20260423T105715
CREATED:20260304T153832Z
LAST-MODIFIED:20260304T153832Z
UID:3898-1785355200-1785362400@avgb.de
SUMMARY:Öffentlicher Abend
DESCRIPTION:Am Mittwoch\, den 29. Juli 2026\, laden wir Sie ab 20:00 Uhr herzlich in unsere Sternwarte in Neuenhaus ein. Im Abendprogramm geben wir eine verständliche Einführung in den aktuellen Sternenhimmel und zeigen\, welche Objekte sich besonders gut beobachten lassen. \nSieben Tage im Juli – Die Geschichte der Apollo 11\nDer Fulldome-Film „Sieben Tage im Juli – Die Geschichte der Apollo 11“ begleitet die erste Mondlandung und vermittelt Hintergründe zur historischen Mission. \nSommersternenhimmel\nDer Sommerhimmel bietet mit dem Sommerdreieck in Schwan\, Leier und Adler ideale Bedingungen für spannende Beobachtungen. \nAnmeldung\nDer Öffentliche Abend kann ohne Anmeldung – auch spontan – besucht werden. Wenn Sie planen\, uns mit einer größeren Gruppe zu besuchen\, freuen wir uns über eine kurze Anmeldung über das folgende Formular. \n\n\n  \n\n\n\n Ihr Name (Pflichtfeld)\n \n \n Ihre E-Mail-Adresse (Pflichtfeld)\n \n \n Veranstaltung\n \n \n Ihre Nachricht
URL:https://avgb.de/veranstaltung/oeffentlicher-abend-75/
CATEGORIES:Öffentlicher Abend
ORGANIZER;CN="Astronomischer Verein der Grafschaft Bentheim e. V.":MAILTO:info@avgb.de
END:VEVENT
END:VCALENDAR